BEGIN:VCALENDAR
VERSION:2.0
PRODID:-//ChamberMaster//Event Calendar 2.0//EN
METHOD:PUBLISH
X-PUBLISHED-TTL:P1H
REFRESH-INTERVAL:P1H
CALSCALE:GREGORIAN
BEGIN:VTIMEZONE
TZID:America/Los_Angeles
BEGIN:DAYLIGHT
RRULE:FREQ=YEARLY;BYMONTH=3;BYDAY=2SU
DTSTART:20070101T000000
TZOFFSETFROM:-0800
TZOFFSETTO:-0700
TZNAME:Pacific Daylight Time
END:DAYLIGHT
BEGIN:STANDARD
RRULE:FREQ=YEARLY;BYMONTH=11;BYDAY=1SU
DTSTART:20070101T000000
TZOFFSETFROM:-0700
TZOFFSETTO:-0800
TZNAME:Pacific Standard Time
END:STANDARD
END:VTIMEZONE
BEGIN:VEVENT
DTSTART;TZID=America/Los_Angeles:20260520T173000
DTEND;TZID=America/Los_Angeles:20260520T193000
X-MICROSOFT-CDO-ALLDAYEVENT:FALSE
SUMMARY:5/20 Lake Arrowhead Chamber of Commerce March Mixer Hosted By Camp Commerce
DESCRIPTION:Fun networking after hours for all chamber members  s complimentary shuttle from nearby Lake Arrowhead Presbyterian Church. Please register in advance as walk-ins are not guaranteed. (A limited number of spaces will be made available for an after mixer stargazing party from among those who pre-gistered).
X-ALT-DESC;FMTTYPE=text/html:Fun networking after hours for all chamber members & guests.Food\, beverages & summer camp themed activities.Bring Your Business Cards and Your Sense Of Adventureas We Re-live Our Summer Camp Days and Meet Up withOur Own LACCC Camp Counselors.  There will be Arts & Crafts\,  Games and a Few Surprises! Camp Attire Encouraged Chamber Members FREE/ Non-Members $5. Parking is limited please consider taking Camp Comerce\;s complimentary shuttle from nearby Lake Arrowhead Presbyterian Church. Please register in advance as walk-ins are not guaranteed. (A limited number of spaces will be made available for an after mixer stargazing party from among those who pre-gistered).
LOCATION:465 Highway 173\, Lake Arrowhead Lake Arrowhead CA 92352
UID:e.436.1449611
SEQUENCE:3
DTSTAMP:20260423T100431Z
URL:https://members.lakearrowheadchamber.com/events/Details/5-20-lake-arrowhead-chamber-of-commerce-march-mixer-hosted-by-camp-commerce-1717084?sourceTypeId=Hub
END:VEVENT
END:VCALENDAR
