BEGIN:VCALENDAR
VERSION:2.0
PRODID:-//ChamberMaster//Event Calendar 2.0//EN
METHOD:PUBLISH
X-PUBLISHED-TTL:P1H
REFRESH-INTERVAL:P1H
CALSCALE:GREGORIAN
BEGIN:VTIMEZONE
TZID:America/Los_Angeles
BEGIN:DAYLIGHT
RRULE:FREQ=YEARLY;BYMONTH=3;BYDAY=2SU
DTSTART:20070101T000000
TZOFFSETFROM:-0800
TZOFFSETTO:-0700
TZNAME:Pacific Daylight Time
END:DAYLIGHT
BEGIN:STANDARD
RRULE:FREQ=YEARLY;BYMONTH=11;BYDAY=1SU
DTSTART:20070101T000000
TZOFFSETFROM:-0700
TZOFFSETTO:-0800
TZNAME:Pacific Standard Time
END:STANDARD
END:VTIMEZONE
BEGIN:VEVENT
DTSTART;TZID=America/Los_Angeles:20260513T173000
DTEND;TZID=America/Los_Angeles:20260513T193000
X-MICROSOFT-CDO-ALLDAYEVENT:FALSE
SUMMARY:AI Workshop with Sven Peterson
DESCRIPTION:From software to hardware\, and now deep diving the application of AI to compliment and optimize workflows\, Sven is a mountain local looking forward to serving our community. Register today!
X-ALT-DESC;FMTTYPE=text/html:<!DOCTYPE html><html><head><title></title></head><body aria-disabled="false"><p style="color: rgba(0\,0\,0\,var(--O42jJQ\,1))\; caret-color: rgb(0\, 0\, 0)\; --8sD0Kg: none\; font-family: YAFdJqX996o_0\, _fb_\, auto\; --cyV3ZQ: 18.5747px\; --gJPlXQ: 1.4\; text-transform: none\; --s8NbEA: p\; line-height: 26px\;"><span style="color: rgba(0\,0\,0\,var(--O42jJQ\,1))\; caret-color: rgb(0\, 0\, 0)\; --Ys-XuQ: none\; font-weight: 400\; font-style: normal\; font-kerning: normal\;">From software to hardware\, and now deep diving the application&nbsp\;</span><span style="color: rgba(0\,0\,0\,var(--O42jJQ\,1))\; caret-color: rgb(0\, 0\, 0)\; --Ys-XuQ: none\; font-weight: 400\; font-style: normal\; font-kerning: normal\;">of AI to compliment and optimize workflows\, Sven is a mountain local looking forward to serving our community.</span></p><p>&nbsp\;Register today! &nbsp\;</p></body></html>
LOCATION:28200 Hwy 189 Suite O-270 Lake Arrowhead CA 92352
UID:e.436.1437667
SEQUENCE:3
DTSTAMP:20260423T101153Z
URL:https://members.lakearrowheadchamber.com/events/Details/ai-workshop-with-sven-peterson-1701612?sourceTypeId=Hub
END:VEVENT
END:VCALENDAR
