BEGIN:VCALENDAR
VERSION:2.0
PRODID:-//ChamberMaster//Event Calendar 2.0//EN
METHOD:PUBLISH
X-PUBLISHED-TTL:P1H
REFRESH-INTERVAL:P1H
CALSCALE:GREGORIAN
BEGIN:VTIMEZONE
TZID:America/Los_Angeles
BEGIN:DAYLIGHT
RRULE:FREQ=YEARLY;BYMONTH=3;BYDAY=2SU
DTSTART:20070101T000000
TZOFFSETFROM:-0800
TZOFFSETTO:-0700
TZNAME:Pacific Daylight Time
END:DAYLIGHT
BEGIN:STANDARD
RRULE:FREQ=YEARLY;BYMONTH=11;BYDAY=1SU
DTSTART:20070101T000000
TZOFFSETFROM:-0700
TZOFFSETTO:-0800
TZNAME:Pacific Standard Time
END:STANDARD
END:VTIMEZONE
BEGIN:VEVENT
DTSTART;TZID=America/Los_Angeles:20260502T173000
DTEND;TZID=America/Los_Angeles:20260502T193000
X-MICROSOFT-CDO-ALLDAYEVENT:FALSE
SUMMARY:Mountain Masterpieces & Paint Night Presented By Sklyforest Mercantile & Basecanp SkyForest
DESCRIPTION:Enjoy this night with local artist Nikki Day and includes all supplies\, instruction and craft mocktails from Le Sprits Mocktails.
X-ALT-DESC;FMTTYPE=text/html:Enjoy this night with local artist Nikki Day and includes all supplies\, instruction and craft mocktails from Le Sprits Mocktails.
LOCATION:28626 CA-18 Sky Forest
UID:e.436.1446411
SEQUENCE:3
DTSTAMP:20260423T100507Z
URL:https://members.lakearrowheadchamber.com/events/Details/mountain-masterpieces-paint-night-presented-by-sklyforest-mercantile-basecanp-skyforest-1713143?sourceTypeId=Hub
END:VEVENT
END:VCALENDAR
